BEGIN:VCALENDAR
VERSION:2.0
PRODID:-//Tire Crunch - ECPv6.2.2.1//NONSGML v1.0//EN
CALSCALE:GREGORIAN
METHOD:PUBLISH
X-WR-CALNAME:Tire Crunch
X-ORIGINAL-URL:https://tirecrunch.com
X-WR-CALDESC:Events for Tire Crunch
REFRESH-INTERVAL;VALUE=DURATION:PT1H
X-Robots-Tag:noindex
X-PUBLISHED-TTL:PT1H
BEGIN:VTIMEZONE
TZID:Europe/Helsinki
BEGIN:DAYLIGHT
TZOFFSETFROM:+0200
TZOFFSETTO:+0300
TZNAME:EEST
DTSTART:20230326T010000
END:DAYLIGHT
BEGIN:STANDARD
TZOFFSETFROM:+0300
TZOFFSETTO:+0200
TZNAME:EET
DTSTART:20231029T010000
END:STANDARD
END:VTIMEZONE
BEGIN:VEVENT
DTSTART;TZID=Europe/Helsinki:20230601T100000
DTEND;TZID=Europe/Helsinki:20230601T110000
DTSTAMP:20260421T022356
CREATED:20230414T194430Z
LAST-MODIFIED:20230506T093910Z
UID:2048-1685613600-1685617200@tirecrunch.com
SUMMARY:Workshop: How to Properly Patch Run-Flat Tires
DESCRIPTION:Welcome to the “Master Class: How to Properly Patch Run-Flat Tires “! In this masterclass\, you will learn the essential skills and techniques to effectively patch run-flat tires. \nLed by our expert tire technician\, Omar Mathis\, this masterclass will cover everything you need to know about patching run-flat tires\, from understanding the anatomy of a run-flat tire to identifying common puncture types and their repairability. \nAt the end of the workshop\, there will be an interactive Q&A session where you will have the opportunity to ask our expert tire technician any questions related to the topic.
URL:https://tirecrunch.com/workshops/workshop-how-to-properly-patch-run-flat-tires/
ATTACH;FMTTYPE=image/jpeg:https://tirecrunch.com/wp-content/uploads/2023/03/Run-Flat-Patching-8.jpg
END:VEVENT
BEGIN:VEVENT
DTSTART;TZID=Europe/Helsinki:20230629T080000
DTEND;TZID=Europe/Helsinki:20230629T100000
DTSTAMP:20260421T022356
CREATED:20230505T124243Z
LAST-MODIFIED:20230506T100324Z
UID:3345-1688025600-1688032800@tirecrunch.com
SUMMARY:Workshop: Tire Shoulder Repairs. When are They Allowed?
DESCRIPTION:The Shoulder Repairs: When Are They Allowed? is a free online workshop that provides participants with valuable information on the proper repair of tire sidewalls. Led by experienced mechanics and technicians\, this workshop will delve into the nitty-gritty details of when it is appropriate to repair tire shoulders\, what types of damage can be repaired\, and what techniques should be used. \n\n\n\nBy exploring case studies and real-world scenarios\, attendees will become confident in their ability to diagnose sidewall damage and properly address any issues that may arise. \n\n\n\nThis comprehensive workshop is designed for beginners and experts alike. Whether you’re an automotive enthusiast seeking to expand your knowledge or a mechanic looking to stay up-to-date with the latest industry standards\, this workshop has something for you. \n\n\n\nOverall\, Sidewall Repairs: When are They Allowed? is a must-attend event for anyone involved in the automotive industry. Don’t miss out on your chance to gain valuable insights from leading experts in tire repair. \n\n\n\nThe workshop will be streamed on Tire Crunch’s YouTube channel.
URL:https://tirecrunch.com/workshops/workshop-tire-shoulder-repairs-when-are-they-allowed/
ATTACH;FMTTYPE=image/jpeg:https://tirecrunch.com/wp-content/uploads/2023/03/Sidewall-Damage-1.jpg
ORGANIZER;CN="Omar Mathis":MAILTO:omar@tirecrunch.com
END:VEVENT
END:VCALENDAR